Workbook
Name I: #REF!
Name 인보이스: #REF!
Name ㅑ: #REF!

Sheet Invoice
A1: COMMERCIAL INVOICE
A2: 1.Shipper/Exporter | F2: 8.No & date of invoice
A3: FUYU PRECISION COMPONENT CO.,LTD. | F3: 1297727 | J3: 45278
A4: Lot M1, Lot F & Lot T1, Quang Chau Industrial Park, Van Trung Commune, | F4: 9.No & date of L/C
A5: Viet Yen District, Bac Giang Province, Vietnam | F5: None
A6: Roisy Liang / Email : roisy.sh.liang@fii-foxconn.com | F6: 10.L/C issuing bank
A7: Mobile : +84 398900093
A8: 2.For Account & Risk of Messrs. | F8: None
A9: ALT Co., Ltd. | F9: 11.Remarks
A10: 12F,8, Seongnam-daero 331 beon-gil, bundang-gu, seongnam-si, gyeonggi-do | F10: * Complete repair process-restocked to customer.
A11: Republic of Korea (ZIP CODE : 13558) | F11: ( RMA / F.O.C )
A12: Tel.: +82-10-4782-1103 / Fax : +82-31-605-8401
A13: 3. Consignee
A14: Same as above
A18: 4.Port of loading | E18: 5.Final of destination
A19: Hai Phong, Viet Nam | E19: Incheon
A21: 6.Carrier | E21: 7.Sailing on or about
H22: DAP KOREA
A23: 12.Marks & Numbers pkgs | E23: 13.Description of goods | F23: 14.Origin | G23: 15.Quantity/Unit | J23: 16. Unit price | L23: 17. Amount
E24: BFX-AT100 | F24: VN | G24: 336 | J24: 58.28 | L24: =J24*G24 -> 19582.08
A25: PALLET 1 | E25: PN : T99X171.00
E27: BFX-UH200 | F27: VN | G27: 10 | J27: 58.28 | L27: =J27*G27 -> 582.8
A28: PALLET 2 | E28: PN : T99X202.00
E30: BFX-AT100 | F30: VN | G30: 1680 | J30: 58.28 | L30: =J30*G30 -> 97910.4
A31: PALLET 3 | E31: PN : T99X171.00
E33: BFX-AT100 | F33: VN | G33: 1379 | J33: 58.28 | L33: =J33*G33 -> 80368.12
A34: PALLET 4 | E34: PN : T99X171.00
E36: BFX-AT100 | F36: VN | G36: 422 | J36: 58.28 | L36: =J36*G36 -> 24594.16
A37: PALLET 5 | E37: PN : T99X171.00
E39: BFX-AT100 | F39: VN | G39: 51 | J39: 58.28 | L39: =J39*G39 -> 2972.28
A40: PALLET 6 | E40: PN : T99X171.00
E42: BFX-UH200 | F42: VN | G42: 263 | J42: 58.28 | L42: =J42*G42 -> 15327.64
A43: PALLET 7 | E43: PN : T99X202.00
E45: BFX-UH200 | F45: VN | G45: 875 | J45: 58.28 | L45: =J45*G45 -> 50995
A46: PALLET 8 | E46: PN : T99X202.00
E48: BFX-UH200 | F48: VN | G48: 118 | J48: 58.28 | L48: =J48*G48 -> 6877.04
A49: PALLET 9 | E49: PN : T99X202.00
E51: TOTAL | G51: =SUM(G24:G50) -> 5134 | L51: =SUM(L24:L50) -> 299209.52
E61: Signed by | F61: Fuyu Precision Component Co.,Ltd

Sheet PackingList
A1: PACKING LIST
A2: 1.Shipper/Exporter | F2: 8.No & date of invoice
A3: =[1]Invoice!A3 -> FUYU PRECISION COMPONENT CO.,LTD. | F3: =+Invoice!F3 -> 1297727 | H3: =+Invoice!J3 -> 45278
A4: =+Invoice!A4 -> Lot M1, Lot F & Lot T1, Quang Chau Industrial Park, Van Trung Commune, | F4: 9.No & date of L/C
A5: =[1]Invoice!A5 -> Viet Yen District, Bac Giang Province, Vietnam
A6: =[1]Invoice!A6 -> Roisy Liang / Email : roisy.sh.liang@fii-foxconn.com
A7: =[1]Invoice!A7 -> Mobile : +84 398900093
A8: 2.For Account & Risk of Messrs. | F8: 10.L/C issuing bank
A9: =[1]Invoice!A9 -> ALT Co., Ltd.
A10: =+Invoice!A10 -> 12F,8, Seongnam-daero 331 beon-gil, bundang-gu, seongnam-si, gyeonggi-do | F10: 11.Remarks
A11: +Invoice!A11 | F11: =[1]Invoice!F10 -> * Complete repair process-restocked to customer.
A12: =+Invoice!A12 -> Tel.: +82-10-4782-1103 / Fax : +82-31-605-8401 | F12: =[1]Invoice!F11 -> ( RMA / F.O.C )
A13: 3.Notify party | F13: SEAL NO : 별지 참고
A14: Same as above
A18: 4.Port of loading | E18: 5.Final of destination
A19: =[1]Invoice!A19 -> Hai Phong, Viet Nam | E19: =[1]Invoice!E19 -> Incheon
A21: 6.Carrier | E21: 7.Sailing on or about
A23: 12.Marks and Numbers | E23: 13.Description of goods | F23: 14.Q'ty/Unit | G23: 15.Net weight | I23: 16.Gross weight | J23: 17.Measurement
E24: BFX-AT100 | F24: 336 | G24: 168 | I24: 202
A25: PALLET 1 | E25: PN : T99X171.00
E27: =+Invoice!E27 -> BFX-UH200 | F27: 10 | G27: 5 | I27: 18
A28: PALLET 2 | E28: =+Invoice!E28 -> PN : T99X202.00
E30: BFX-AT100 | F30: 1680 | G30: 840 | I30: 970
A31: PALLET 3 | E31: PN : T99X171.00
E33: BFX-AT100 | F33: 1379 | G33: 689.5 | I33: 798.5
A34: PALLET 4 | E34: PN : T99X171.00
E36: BFX-AT100 | F36: 422 | G36: 211 | I36: 232
A37: PALLET 5 | E37: PN : T99X171.00
E39: BFX-AT100 | F39: 51 | G39: 25.5 | I39: 37.5
A40: PALLET 6 | E40: PN : T99X171.00
E42: =+Invoice!E42 -> BFX-UH200 | F42: 263 | G42: 131.5 | I42: 162.5
A43: PALLET 7 | E43: =+Invoice!E43 -> PN : T99X202.00
E45: =+Invoice!E45 -> BFX-UH200 | F45: 875 | G45: 437.5 | I45: 468.5
A46: PALLET 8 | E46: =+Invoice!E46 -> PN : T99X202.00
E48: =+Invoice!E48 -> BFX-UH200 | F48: 118 | G48: 59 | I48: 72
A49: PALLET 9 | E49: =+Invoice!E49 -> PN : T99X202.00
E51: TOTAL | F51: =SUM(F24:F50) -> 5134 | G51: =SUM(G24:H50) -> 2567 | H51: KG | I51: =SUM(I24:I50) -> 2961 | J51: 9
A53: ** SN 별지 참고 **
F61: Signed by | G61: Fuyu Precision Component Co.,Ltd

Sheet Pallet 1- 336pcs
A1: SERIAL_NUMBER | B1: Model | C1: SHIPPING SN | D1: DN | E1: CARTON_NO | F1: PALLET_NO | G1: Lot#
A2: 1CBFC056B0A5 | B2: T99X171.00 | C2: 2149688001202005020059 | D2: 5440100283 | E2: UCT231031051 | F2: UPL231212005 | G2: 10
A3: 1CBFC056A36D | B3: T99X171.00 | C3: 2149688001202005019485 | D3: 5440100283 | E3: UCT231031051 | F3: UPL231212005 | G3: 10
A4: 405BD8E2B714 | B4: T99X171.00 | C4: 2149688001201909068808 | D4: 5440100283 | E4: UCT231031051 | F4: UPL231212005 | G4: 10
A5: 405BD8AD3C9B | B5: T99X171.00 | C5: 2149688001201909044607 | D5: 5440100283 | E5: UCT231031051 | F5: UPL231212005 | G5: 10
A6: 402343E0811C | B6: T99X171.00 | C6: 2149688001201908050490 | D6: 5440100283 | E6: UCT231101029 | F6: UPL231212005 | G6: 10
A7: 405BD8E294B5 | B7: T99X171.00 | C7: 2149688001201909060555 | D7: 5440100283 | E7: UCT231031049 | F7: UPL231212005 | G7: 10
A8: 1CBFC0124011 | B8: T99X171.00 | C8: 2149688001202003073841 | D8: 5440100283 | E8: UCT231031049 | F8: UPL231212005 | G8: 10
A9: 405BD8E2D2B0 | B9: T99X171.00 | C9: 2149688001201909072663 | D9: 5440100283 | E9: UCT231031049 | F9: UPL231212005 | G9: 10
A10: 405BD86D5E1A | B10: T99X171.00 | C10: 2149688001201909014469 | D10: 5440100283 | E10: UCT231031049 | F10: UPL231212005 | G10: 10
A11: 405BD8AD1C05 | B11: T99X171.00 | C11: 2149688001201909036830 | D11: 5440100283 | E11: UCT231031049 | F11: UPL231212005 | G11: 10
A12: 402343CD30FC | B12: T99X171.00 | C12: 2149688001201908034438 | D12: 5440100283 | E12: UCT231031049 | F12: UPL231212005 | G12: 10
A13: 4CEBBDB06971 | B13: T99X171.00 | C13: 2149688001202001044033 | D13: 5440100283 | E13: UCT231031051 | F13: UPL231212005 | G13: 10
... A337: 405BD8246F3A | B337: T99X171.00 | C337: 2149688001201908077093 | D337: 5440100283 | E337: UCT231101012 | F337: UPL231212005 | G337: 10

Sheet Pallet 2-10pcs
A1: SERIAL_NUMBER | B1: Model | C1: SHIPPING SN | D1: DN | E1: CARTON_NO | F1: PALLET_NO | G1: Lot#
A2: 28CDC4F88786 | B2: T99X202.00 | C2: 2149687001202005049154 | D2: 5440100284 | E2: UCT231215022 | F2: UPL231215010 | G2: 3
A3: 28CDC4F9C97C | B3: T99X202.00 | C3: 2149687001202103019189 | D3: 5440100284 | E3: UCT231215022 | F3: UPL231215010 | G3: 10
A4: 28CDC4F82E30 | B4: T99X202.00 | C4: 2149687001202005028138 | D4: 5440100284 | E4: UCT231215022 | F4: UPL231215010 | G4: 3
A5: 28CDC4F867F1 | B5: T99X202.00 | C5: 2149687001202005053980 | D5: 5440100284 | E5: UCT231215022 | F5: UPL231215010 | G5: 3
A6: 28CDC4F98483 | B6: T99X202.00 | C6: 2149687001202009059824 | D6: 5440100284 | E6: UCT231215022 | F6: UPL231215010 | G6: 10
A7: 28CDC4F98144 | B7: T99X202.00 | C7: 2149687001202009059525 | D7: 5440100284 | E7: UCT231215022 | F7: UPL231215010 | G7: 10
A8: 28CDC4F8A8BA | B8: T99X202.00 | C8: 2149687001202005054026 | D8: 5440100284 | E8: UCT231215022 | F8: UPL231215010 | G8: 4
A9: 28CDC4F98A70 | B9: T99X202.00 | C9: 2149687001202009056948 | D9: 5440100284 | E9: UCT231215022 | F9: UPL231215010 | G9: 10
A10: 28CDC438F730 | B10: T99X202.00 | C10: 2149687001202005016955 | D10: 5440100284 | E10: UCT231215022 | F10: UPL231215010 | G10: 2
A11: 28CDC4F814C1 | B11: T99X202.00 | C11: 2149687001202005020784 | D11: 5440100284 | E11: UCT231215022 | F11: UPL231215010 | G11: 3

Sheet Pallet 3- 1680pcs
A1: SERIAL_NUMBER | B1: Model | C1: SHIPPING SN | D1: DN | E1: CARTON_NO | F1: PALLET_NO | G1: Lot#
A2: E86F38534397 | B2: T99X171.00 | C2: 2149688001201909103800 | D2: 5440100285 | E2: UCT231009022 | F2: UPL231009002 | G2: 6&7
A3: E86F3853387F | B3: T99X171.00 | C3: 2149688001201909101252 | D3: 5440100285 | E3: UCT231009024 | F3: UPL231009002 | G3: 6&7
A4: 1CBFC012081A | B4: T99X171.00 | C4: 2149688001202003057955 | D4: 5440100285 | E4: UCT231009024 | F4: UPL231009002 | G4: 6&7
A5: 1CBFC0123EED | B5: T99X171.00 | C5: 2149688001202003076185 | D5: 5440100285 | E5: UCT231009028 | F5: UPL231009002 | G5: 6&7
A6: 1CBFC0123F79 | B6: T99X171.00 | C6: 2149688001202003077235 | D6: 5440100285 | E6: UCT231009027 | F6: UPL231009002 | G6: 6&7
A7: 1CBFC011FF82 | B7: T99X171.00 | C7: 2149688001202003054228 | D7: 5440100285 | E7: UCT231009023 | F7: UPL231009002 | G7: 6&7
A8: 1CBFC0123A25 | B8: T99X171.00 | C8: 2149688001202003075362 | D8: 5440100285 | E8: UCT231009028 | F8: UPL231009002 | G8: 6&7
A9: E86F38534F61 | B9: T99X171.00 | C9: 2149688001201909109283 | D9: 5440100285 | E9: UCT231009028 | F9: UPL231009002 | G9: 6&7
A10: 1CBFC0120C1F | B10: T99X171.00 | C10: 2149688001202003052857 | D10: 5440100285 | E10: UCT231009028 | F10: UPL231009002 | G10: 6&7
A11: E86F3853224A | B11: T99X171.00 | C11: 2149688001201909097023 | D11: 5440100285 | E11: UCT231009023 | F11: UPL231009002 | G11: 6&7
A12: E86F38531F69 | B12: T99X171.00 | C12: 2149688001201909097596 | D12: 5440100285 | E12: UCT231009030 | F12: UPL231009002 | G12: 6&7
A13: E86F38534671 | B13: T99X171.00 | C13: 2149688001201909107563 | D13: 5440100285 | E13: UCT231009028 | F13: UPL231009002 | G13: 6&7
... A747: 28CDC4FC1B8B | B747: T99X171.00 | C747: 2149688001202005176010 | D747: 5440100285 | E747: UCT231009001 | F747: UPL231009002 | G747: 6&7
A748: 28CDC4FB79F0 | B748: T99X171.00 | C748: 2149688001202005132226 | D748: 5440100285 | E748: UCT231009034 | F748: UPL231009002 | G748: 10
A749: 28CDC4FB737B | B749: T99X171.00 | C749: 2149688001202005129301 | D749: 5440100285 | E749: UCT231009034 | F749: UPL231009002 | G749: 10
A750: 5C3A45D52B7D | B750: T99X171.00 | C750: 2149688001202005053639 | D750: 5440100285 | E750: UCT231009003 | F750: UPL231009002 | G750: 10
A751: 5C3A45338C26 | B751: T99X171.00 | C751: 2149688001202005042517 | D751: 5440100285 | E751: UCT231009002 | F751: UPL231009002 | G751: 10
A752: 5C3A45B432F1 | B752: T99X171.00 | C752: 2149688001202005052591 | D752: 5440100285 | E752: UCT231009013 | F752: UPL231009002 | G752: 10
A753: 28CDC4098478 | B753: T99X171.00 | C753: 2149688001202005081775 | D753: 5440100285 | E753: UCT231009004 | F753: UPL231009002 | G753: 10
A754: 28CDC4FBACA3 | B754: T99X171.00 | C754: 2149688001202005141735 | D754: 5440100285 | E754: UCT231009028 | F754: UPL231009002 | G754: 10
A755: 28CDC4FBB995 | B755: T99X171.00 | C755: 2149688001202005148289 | D755: 5440100285 | E755: UCT231009002 | F755: UPL231009002 | G755: 10
A756: 28CDC4097CB8 | B756: T99X171.00 | C756: 2149688001202005080742 | D756: 5440100285 | E756: UCT231009002 | F756: UPL231009002 | G756: 10
A757: 28CDC45CD093 | B757: T99X171.00 | C757: 2149688001202005102927 | D757: 5440100285 | E757: UCT231009013 | F757: UPL231009002 | G757: 10
A758: 28CDC4FB700C | B758: T99X171.00 | C758: 2149688001202005127450 | D758: 5440100285 | E758: UCT231009004 | F758: UPL231009002 | G758: 10
A759: 28CDC4005840 | B759: T99X171.00 | C759: 2149688001202005077713 | D759: 5440100285 | E759: UCT231009014 | F759: UPL231009002 | G759: 10
... A1681: 28CDC4097064 | B1681: T99X171.00 | C1681: 2149688001202005098885 | D1681: 5440100285 | E1681: UCT231009034 | F1681: UPL231009002 | G1681: 10

Sheet Pallet 4- 1379pcs
A1: SERIAL_NUMBER | B1: Model | C1: SHIPPING SN | D1: DN | E1: CARTON_NO | F1: PALLET_NO | G1: Lot#
A2: 405BD8AD19D1 | B2: T99X171.00 | C2: 2149688001201909038401 | D2: 5440100286 | E2: UCT231031067 | F2: UPL231212011 | G2: 10
A3: 405BD8AD137D | B3: T99X171.00 | C3: 2149688001201909039775 | D3: 5440100286 | E3: UCT231031067 | F3: UPL231212011 | G3: 10
A4: 4023432AAABE | B4: T99X171.00 | C4: 2149688001201904054132 | D4: 5440100286 | E4: UCT231031052 | F4: UPL231212011 | G4: 10
A5: 1CBFC01214C2 | B5: T99X171.00 | C5: 2149688001202003057819 | D5: 5440100286 | E5: UCT231031067 | F5: UPL231212011 | G5: 10
A6: 405BD86D1EC5 | B6: T99X171.00 | C6: 2149688001201909009177 | D6: 5440100286 | E6: UCT231031064 | F6: UPL231212011 | G6: 10
A7: 405BD8AD1923 | B7: T99X171.00 | C7: 2149688001201909038341 | D7: 5440100286 | E7: UCT231031067 | F7: UPL231212011 | G7: 10
A8: 405BD8AD1619 | B8: T99X171.00 | C8: 2149688001201909038532 | D8: 5440100286 | E8: UCT231031064 | F8: UPL231212011 | G8: 10
A9: 405BD8AD223C | B9: T99X171.00 | C9: 2149688001201909046668 | D9: 5440100286 | E9: UCT231031064 | F9: UPL231212011 | G9: 10
A10: E86F388ACD65 | B10: T99X171.00 | C10: 2149688001201909127788 | D10: 5440100286 | E10: UCT231031067 | F10: UPL231212011 | G10: 10
A11: 405BD8E2AC79 | B11: T99X171.00 | C11: 2149688001201909067655 | D11: 5440100286 | E11: UCT231031067 | F11: UPL231212011 | G11: 10
A12: E86F388AFF60 | B12: T99X171.00 | C12: 2149688001201909138861 | D12: 5440100286 | E12: UCT231031064 | F12: UPL231212011 | G12: 10
A13: 405BD8E2B5A1 | B13: T99X171.00 | C13: 2149688001201909066288 | D13: 5440100286 | E13: UCT231031052 | F13: UPL231212011 | G13: 10
... A1380: 405BD82471B3 | B1380: T99X171.00 | C1380: 2149688001201908075948 | D1380: 5440100286 | E1380: UCT231101006 | F1380: UPL231212011 | G1380: 10

Sheet Pallet 5-422pcs scrap
A1: SERIAL_NUMBER | B1: Model | C1: SHIPPING SN | D1: DN | E1: CARTON_NO | F1: PALLET_NO | G1: Lot#
A2: 1CBFC0F90EB0 | B2: T99X171.00 | C2: 2149688001202005032643 | D2: 5440100287 | E2: UCT231010020 | F2: UPL231212009 | G2: Scrap lot5
A3: 1CBFC0F91E2B | B3: T99X171.00 | C3: 2149688001202005030223 | D3: 5440100287 | E3: UCT231010020 | F3: UPL231212009 | G3: Scrap lot5
A4: 28CDC4FB2383 | B4: T99X171.00 | C4: 2149688001202005107654 | D4: 5440100287 | E4: UCT231010020 | F4: UPL231212009 | G4: Scrap lot4
A5: 28CDC40042D4 | B5: T99X171.00 | C5: 2149688001202005070252 | D5: 5440100287 | E5: UCT231010020 | F5: UPL231212009 | G5: Scrap lot5
A6: 5C3A45D54F86 | B6: T99X171.00 | C6: 2149688001202005062835 | D6: 5440100287 | E6: UCT231010020 | F6: UPL231212009 | G6: Scrap lot4
A7: 5C3A4533AB22 | B7: T99X171.00 | C7: 2149688001202005048506 | D7: 5440100287 | E7: UCT231025004 | F7: UPL231212009 | G7: Scrap lot5
A8: 28CDC4098938 | B8: T99X171.00 | C8: 2149688001202005084117 | D8: 5440100287 | E8: UCT230918005 | F8: UPL231212009 | G8: Scrap lot5
A9: B4B5B6FE878B | B9: T99X171.00 | C9: 2149688001202108040622 | D9: 5440100287 | E9: UCT231025004 | F9: UPL231212009 | G9: Scrap lot5
A10: 28CDC4FF0948 | B10: T99X171.00 | C10: 2149688001202101062559 | D10: 5440100287 | E10: UCT230918008 | F10: UPL231212009 | G10: Scrap lot4
A11: B4B5B6FE6C39 | B11: T99X171.00 | C11: 2149688001202108033090 | D11: 5440100287 | E11: UCT231025004 | F11: UPL231212009 | G11: Scrap lot5
A12: 28CDC4FB3A5B | B12: T99X171.00 | C12: 2149688001202005116148 | D12: 5440100287 | E12: UCT230918007 | F12: UPL231212009 | G12: Scrap lot5
A13: 5C3A45D5452A | B13: T99X171.00 | C13: 2149688001202005058817 | D13: 5440100287 | E13: UCT231025004 | F13: UPL231212009 | G13: Scrap lot5
... A423: 28CDC4003C61 | B423: T99X171.00 | C423: 2149688001202005073494 | D423: 5440100287 | E423: UCT231025003 | F423: UPL231212009 | G423: Scrap lot10

Sheet Pallet 6-51pcs
A1: SERIAL_NUMBER | B1: Model | C1: SHIPPING SN | D1: DN | E1: CARTON_NO | F1: PALLET_NO | G1: Lot#
A2: 405BD8E2F082 | B2: T99X171.00 | C2: 2149688001201909079007 | D2: 5440100287 | E2: UCT231031041 | F2: UPL231212006 | G2: 10
A3: 4CEBBDB0429E | B3: T99X171.00 | C3: 2149688001202001049589 | D3: 5440100287 | E3: UCT231031041 | F3: UPL231212006 | G3: 10
A4: 405BD824783B | B4: T99X171.00 | C4: 2149688001201908081245 | D4: 5440100287 | E4: UCT231031041 | F4: UPL231212006 | G4: 10
A5: E86F388ADA38 | B5: T99X171.00 | C5: 2149688001201909127327 | D5: 5440100287 | E5: UCT231031041 | F5: UPL231212006 | G5: 10
A6: 405BD82460AC | B6: T99X171.00 | C6: 2149688001201908093915 | D6: 5440100287 | E6: UCT231031041 | F6: UPL231212006 | G6: 10
A7: 405BD8AD0E9C | B7: T99X171.00 | C7: 2149688001201909035381 | D7: 5440100287 | E7: UCT231031041 | F7: UPL231212006 | G7: 10
A8: 405BD8249FF5 | B8: T99X171.00 | C8: 2149688001201908091983 | D8: 5440100287 | E8: UCT231031041 | F8: UPL231212006 | G8: 10
A9: 402343CD2D04 | B9: T99X171.00 | C9: 2149688001201908034478 | D9: 5440100287 | E9: UCT231031041 | F9: UPL231212006 | G9: 10
A10: 405BD8AD5FD6 | B10: T99X171.00 | C10: 2149688001201909052738 | D10: 5440100287 | E10: UCT231031041 | F10: UPL231212006 | G10: 10
A11: 405BD8E2AD79 | B11: T99X171.00 | C11: 2149688001201909068524 | D11: 5440100287 | E11: UCT231031041 | F11: UPL231212006 | G11: 10
A12: 405BD8E2FB30 | B12: T99X171.00 | C12: 2149688001201909084833 | D12: 5440100287 | E12: UCT231031041 | F12: UPL231212006 | G12: 10
A13: 405BD8AD5B62 | B13: T99X171.00 | C13: 2149688001201909055789 | D13: 5440100287 | E13: UCT231031041 | F13: UPL231212006 | G13: 10
... A52: 28CDC4FBCC54 | B52: T99X171.00 | C52: 2149688001202005153779 | D52: 5440100287 | E52: UCT231212009 | F52: UPL231212006 | G52: 10

Sheet Pallet 7-263pcs
A1: SERIAL_NUMBER | B1: Model | C1: SHIPPING SN | D1: DN | E1: CARTON_NO | F1: PALLET_NO | G1: Lot#
A2: 28CDC4F96E9D | B2: T99X202.00 | C2: 2149687001202009048125 | D2: 5440100288 | E2: UCT231215001 | F2: UPL231215009 | G2: 3
A3: 28CDC4F840F9 | B3: T99X202.00 | C3: 2149687001202005029623 | D3: 5440100288 | E3: UCT231215001 | F3: UPL231215009 | G3: 2
A4: 28CDC4F8854C | B4: T99X202.00 | C4: 2149687001202005050037 | D4: 5440100288 | E4: UCT231215001 | F4: UPL231215009 | G4: 2
A5: 28CDC4F9E85A | B5: T99X202.00 | C5: 2149687001202108001577 | D5: 5440100288 | E5: UCT231215001 | F5: UPL231215009 | G5: 10
A6: 28CDC4F80CDF | B6: T99X202.00 | C6: 2149687001202005020084 | D6: 5440100288 | E6: UCT231215001 | F6: UPL231215009 | G6: 2
A7: 28CDC4F8E6A9 | B7: T99X202.00 | C7: 2149687001202009011403 | D7: 5440100288 | E7: UCT231215001 | F7: UPL231215009 | G7: 3
A8: 28CDC438F58F | B8: T99X202.00 | C8: 2149687001202005016790 | D8: 5440100288 | E8: UCT231215001 | F8: UPL231215009 | G8: 3
A9: 28CDC4F8804D | B9: T99X202.00 | C9: 2149687001202005044760 | D9: 5440100288 | E9: UCT231215001 | F9: UPL231215009 | G9: 2
A10: 28CDC4F8B7FA | B10: T99X202.00 | C10: 2149687001202009003288 | D10: 5440100288 | E10: UCT231215001 | F10: UPL231215009 | G10: 2
A11: 28CDC438C544 | B11: T99X202.00 | C11: 2149687001202005013080 | D11: 5440100288 | E11: UCT231215001 | F11: UPL231215009 | G11: 3
A12: 28CDC4F8B934 | B12: T99X202.00 | C12: 2149687001202009003332 | D12: 5440100288 | E12: UCT231215003 | F12: UPL231215009 | G12: 4
A13: 28CDC4F85715 | B13: T99X202.00 | C13: 2149687001202005039494 | D13: 5440100288 | E13: UCT231215001 | F13: UPL231215009 | G13: 2
... A264: 28CDC4F89D80 | B264: T99X202.00 | C264: 2149687001202005052187 | D264: 5440100288 | E264: UCT231215015 | F264: UPL231215009 | G264: 3

Sheet Pallet 8-875pcs
A1: SERIAL_NUMBER | B1: Model | C1: SHIPPING SN | D1: DN | E1: CARTON_NO | F1: PALLET_NO | G1: Lot#
A2: 28CDC4F8B6A3 | B2: T99X202.00 | C2: 2149687001202009002923 | D2: 5440100289 | E2: UCT231217005 | F2: UPL231217004 | G2: 3
A3: 28CDC4F87F5F | B3: T99X202.00 | C3: 2149687001202005044888 | D3: 5440100289 | E3: UCT231217005 | F3: UPL231217004 | G3: 3
A4: 28CDC4F86131 | B4: T99X202.00 | C4: 2149687001202005044042 | D4: 5440100289 | E4: UCT231215023 | F4: UPL231217004 | G4: 3
A5: 28CDC4F89BFC | B5: T99X202.00 | C5: 2149687001202005051585 | D5: 5440100289 | E5: UCT231215017 | F5: UPL231217004 | G5: 3
A6: 28CDC4F8BB72 | B6: T99X202.00 | C6: 2149687001202009001789 | D6: 5440100289 | E6: UCT231217001 | F6: UPL231217004 | G6: 4
A7: 28CDC438F19A | B7: T99X202.00 | C7: 2149687001202005019170 | D7: 5440100289 | E7: UCT231215031 | F7: UPL231217004 | G7: 2
A8: 28CDC4F9800E | B8: T99X202.00 | C8: 2149687001202009059446 | D8: 5440100289 | E8: UCT231215023 | F8: UPL231217004 | G8: 10
A9: 28CDC4F93C3C | B9: T99X202.00 | C9: 2149687001202009038123 | D9: 5440100289 | E9: UCT231215024 | F9: UPL231217004 | G9: 3
A10: 28CDC4F96BB2 | B10: T99X202.00 | C10: 2149687001202009048844 | D10: 5440100289 | E10: UCT231215024 | F10: UPL231217004 | G10: 4
A11: 28CDC4F95989 | B11: T99X202.00 | C11: 2149687001202009043096 | D11: 5440100289 | E11: UCT231215028 | F11: UPL231217004 | G11: 3
A12: 28CDC4F8FF99 | B12: T99X202.00 | C12: 2149687001202009021171 | D12: 5440100289 | E12: UCT231215017 | F12: UPL231217004 | G12: 4
A13: 28CDC4F9CB5D | B13: T99X202.00 | C13: 2149687001202103018287 | D13: 5440100289 | E13: UCT231215017 | F13: UPL231217004 | G13: 3
... A876: 28CDC4F8BFCE | B876: T99X202.00 | C876: 2149687001202009006541 | D876: 5440100289 | E876: UCT231216002 | F876: UPL231217004 | G876: 3

Sheet Pallet 9-118pcs scrap
A1: SERIAL_NUMBER | B1: Model | C1: SHIPPING SN | D1: DN | E1: CARTON_NO | F1: PALLET_NO | G1: Lot#
A2: 28CDC4F96C66 | B2: T99X202.00 | C2: 2149687001202009048299 | D2: 5440100289 | E2: UCT231217006 | F2: UPL231217005 | G2: Scrap Lot10
A3: 28CDC438CFF6 | B3: T99X202.00 | C3: 2149687001202005010182 | D3: 5440100289 | E3: UCT231217007 | F3: UPL231217005 | G3: Scrap Lot2
A4: 28CDC4F83D80 | B4: T99X202.00 | C4: 2149687001202005032533 | D4: 5440100289 | E4: UCT231217007 | F4: UPL231217005 | G4: Scrap Lot2
A5: 28CDC438E749 | B5: T99X202.00 | C5: 2149687001202005010838 | D5: 5440100289 | E5: UCT231217006 | F5: UPL231217005 | G5: Scrap Lot3
A6: 28CDC438D0E5 | B6: T99X202.00 | C6: 2149687001202005010181 | D6: 5440100289 | E6: UCT231217007 | F6: UPL231217005 | G6: Scrap Lot2
A7: 28CDC4F9ECFF | B7: T99X202.00 | C7: 2149687001202108000869 | D7: 5440100289 | E7: UCT231217007 | F7: UPL231217005 | G7: Scrap Lot4
A8: 28CDC4F862E9 | B8: T99X202.00 | C8: 2149687001202005058548 | D8: 5440100289 | E8: UCT231217008 | F8: UPL231217005 | G8: Scrap Lot2
A9: 28CDC4390563 | B9: T99X202.00 | C9: 2149687001202005012311 | D9: 5440100289 | E9: UCT231217008 | F9: UPL231217005 | G9: Scrap Lot2
A10: 28CDC4F9C9C5 | B10: T99X202.00 | C10: 2149687001202103018851 | D10: 5440100289 | E10: UCT231217006 | F10: UPL231217005 | G10: Scrap Lot10
A11: 28CDC439031E | B11: T99X202.00 | C11: 2149687001202005013422 | D11: 5440100289 | E11: UCT231217006 | F11: UPL231217005 | G11: Scrap Lot2
A12: 28CDC4F88052 | B12: T99X202.00 | C12: 2149687001202005045386 | D12: 5440100289 | E12: UCT231217007 | F12: UPL231217005 | G12: Scrap Lot2
A13: 28CDC4F8945F | B13: T99X202.00 | C13: 2149687001202005054681 | D13: 5440100289 | E13: UCT231217007 | F13: UPL231217005 | G13: Scrap Lot3
... A119: 28CDC4F96848 | B119: T99X202.00 | C119: 2149687001202009049605 | D119: 5440100289 | E119: UCT231217008 | F119: UPL231217005 | G119: Scrap Lot2
